BEGIN:VCALENDAR
VERSION:2.0
PRODID:-//Diocese of Reno - ECPv6.15.20//NONSGML v1.0//EN
CALSCALE:GREGORIAN
METHOD:PUBLISH
X-WR-CALNAME:Diocese of Reno
X-ORIGINAL-URL:https://highdesertcatholic.studiobenna.com
X-WR-CALDESC:Events for Diocese of Reno
REFRESH-INTERVAL;VALUE=DURATION:PT1H
X-Robots-Tag:noindex
X-PUBLISHED-TTL:PT1H
BEGIN:VTIMEZONE
TZID:America/Los_Angeles
BEGIN:DAYLIGHT
TZOFFSETFROM:-0800
TZOFFSETTO:-0700
TZNAME:PDT
DTSTART:20230312T100000
END:DAYLIGHT
BEGIN:STANDARD
TZOFFSETFROM:-0700
TZOFFSETTO:-0800
TZNAME:PST
DTSTART:20231105T090000
END:STANDARD
BEGIN:DAYLIGHT
TZOFFSETFROM:-0800
TZOFFSETTO:-0700
TZNAME:PDT
DTSTART:20240310T100000
END:DAYLIGHT
BEGIN:STANDARD
TZOFFSETFROM:-0700
TZOFFSETTO:-0800
TZNAME:PST
DTSTART:20241103T090000
END:STANDARD
BEGIN:DAYLIGHT
TZOFFSETFROM:-0800
TZOFFSETTO:-0700
TZNAME:PDT
DTSTART:20250309T100000
END:DAYLIGHT
BEGIN:STANDARD
TZOFFSETFROM:-0700
TZOFFSETTO:-0800
TZNAME:PST
DTSTART:20251102T090000
END:STANDARD
END:VTIMEZONE
BEGIN:VEVENT
DTSTART;TZID=America/Los_Angeles:20241223T180000
DTEND;TZID=America/Los_Angeles:20241223T190000
DTSTAMP:20260425T091949
CREATED:20241104T233537Z
LAST-MODIFIED:20241104T233537Z
UID:37049-1734976800-1734980400@highdesertcatholic.studiobenna.com
SUMMARY:Simbang Gabi 2024
DESCRIPTION:The FILIPINO DIOCESAN COUNCIL OF RENO \nMerrily Invites You To Join Us in \nOur Centuries Old Filipino Tradition of \nSimbang Gabi 2024
URL:https://highdesertcatholic.studiobenna.com/event/simbang-gabi-2024-2024-12-23/
LOCATION:Immaculate Conception Parish
CATEGORIES:Diocesan Event|Parish,Ethnic Ministry
END:VEVENT
BEGIN:VEVENT
DTSTART;TZID=America/Los_Angeles:20241222T170000
DTEND;TZID=America/Los_Angeles:20241222T180000
DTSTAMP:20260425T091949
CREATED:20241104T233537Z
LAST-MODIFIED:20241104T233537Z
UID:37048-1734886800-1734890400@highdesertcatholic.studiobenna.com
SUMMARY:Simbang Gabi 2024
DESCRIPTION:The FILIPINO DIOCESAN COUNCIL OF RENO \nMerrily Invites You To Join Us in \nOur Centuries Old Filipino Tradition of \nSimbang Gabi 2024
URL:https://highdesertcatholic.studiobenna.com/event/simbang-gabi-2024-2024-12-22/
LOCATION:Immaculate Conception Parish
CATEGORIES:Diocesan Event|Parish,Ethnic Ministry
END:VEVENT
BEGIN:VEVENT
DTSTART;TZID=America/Los_Angeles:20241221T180000
DTEND;TZID=America/Los_Angeles:20241221T190000
DTSTAMP:20260425T091949
CREATED:20241104T233537Z
LAST-MODIFIED:20241104T233537Z
UID:37047-1734804000-1734807600@highdesertcatholic.studiobenna.com
SUMMARY:Simbang Gabi 2024
DESCRIPTION:The FILIPINO DIOCESAN COUNCIL OF RENO \nMerrily Invites You To Join Us in \nOur Centuries Old Filipino Tradition of \nSimbang Gabi 2024
URL:https://highdesertcatholic.studiobenna.com/event/simbang-gabi-2024-2024-12-21/
LOCATION:Immaculate Conception Parish
CATEGORIES:Diocesan Event|Parish,Ethnic Ministry
END:VEVENT
BEGIN:VEVENT
DTSTART;TZID=America/Los_Angeles:20241220T170000
DTEND;TZID=America/Los_Angeles:20241220T180000
DTSTAMP:20260425T091949
CREATED:20241104T233537Z
LAST-MODIFIED:20241104T233537Z
UID:37046-1734714000-1734717600@highdesertcatholic.studiobenna.com
SUMMARY:Simbang Gabi 2024
DESCRIPTION:The FILIPINO DIOCESAN COUNCIL OF RENO \nMerrily Invites You To Join Us in \nOur Centuries Old Filipino Tradition of \nSimbang Gabi 2024
URL:https://highdesertcatholic.studiobenna.com/event/simbang-gabi-2024-2024-12-20/
LOCATION:Immaculate Conception Parish
CATEGORIES:Diocesan Event|Parish,Ethnic Ministry
END:VEVENT
BEGIN:VEVENT
DTSTART;TZID=America/Los_Angeles:20241219T180000
DTEND;TZID=America/Los_Angeles:20241219T190000
DTSTAMP:20260425T091949
CREATED:20241104T233537Z
LAST-MODIFIED:20241104T233537Z
UID:37045-1734631200-1734634800@highdesertcatholic.studiobenna.com
SUMMARY:Simbang Gabi 2024
DESCRIPTION:The FILIPINO DIOCESAN COUNCIL OF RENO \nMerrily Invites You To Join Us in \nOur Centuries Old Filipino Tradition of \nSimbang Gabi 2024
URL:https://highdesertcatholic.studiobenna.com/event/simbang-gabi-2024-2024-12-19/
LOCATION:Immaculate Conception Parish
CATEGORIES:Diocesan Event|Parish,Ethnic Ministry
END:VEVENT
BEGIN:VEVENT
DTSTART;TZID=America/Los_Angeles:20241218T180000
DTEND;TZID=America/Los_Angeles:20241218T190000
DTSTAMP:20260425T091949
CREATED:20241104T233537Z
LAST-MODIFIED:20241104T233537Z
UID:37044-1734544800-1734548400@highdesertcatholic.studiobenna.com
SUMMARY:Simbang Gabi 2024
DESCRIPTION:The FILIPINO DIOCESAN COUNCIL OF RENO \nMerrily Invites You To Join Us in \nOur Centuries Old Filipino Tradition of \nSimbang Gabi 2024
URL:https://highdesertcatholic.studiobenna.com/event/simbang-gabi-2024-2024-12-18/
LOCATION:Immaculate Conception Parish
CATEGORIES:Diocesan Event|Parish,Ethnic Ministry
END:VEVENT
BEGIN:VEVENT
DTSTART;TZID=America/Los_Angeles:20241217T180000
DTEND;TZID=America/Los_Angeles:20241217T190000
DTSTAMP:20260425T091949
CREATED:20241104T233537Z
LAST-MODIFIED:20241104T233537Z
UID:37043-1734458400-1734462000@highdesertcatholic.studiobenna.com
SUMMARY:Simbang Gabi 2024
DESCRIPTION:The FILIPINO DIOCESAN COUNCIL OF RENO \nMerrily Invites You To Join Us in \nOur Centuries Old Filipino Tradition of \nSimbang Gabi 2024
URL:https://highdesertcatholic.studiobenna.com/event/simbang-gabi-2024-2024-12-17/
LOCATION:Immaculate Conception Parish
CATEGORIES:Diocesan Event|Parish,Ethnic Ministry
END:VEVENT
BEGIN:VEVENT
DTSTART;TZID=America/Los_Angeles:20241216T180000
DTEND;TZID=America/Los_Angeles:20241216T190000
DTSTAMP:20260425T091949
CREATED:20241104T233537Z
LAST-MODIFIED:20241104T233537Z
UID:37042-1734372000-1734375600@highdesertcatholic.studiobenna.com
SUMMARY:Simbang Gabi 2024
DESCRIPTION:The FILIPINO DIOCESAN COUNCIL OF RENO \nMerrily Invites You To Join Us in \nOur Centuries Old Filipino Tradition of \nSimbang Gabi 2024
URL:https://highdesertcatholic.studiobenna.com/event/simbang-gabi-2024-2024-12-16/
LOCATION:Immaculate Conception Parish
CATEGORIES:Diocesan Event|Parish,Ethnic Ministry
END:VEVENT
BEGIN:VEVENT
DTSTART;TZID=America/Los_Angeles:20241215T170000
DTEND;TZID=America/Los_Angeles:20241215T180000
DTSTAMP:20260425T091949
CREATED:20241104T233537Z
LAST-MODIFIED:20241104T233537Z
UID:37041-1734282000-1734285600@highdesertcatholic.studiobenna.com
SUMMARY:Simbang Gabi 2024
DESCRIPTION:The FILIPINO DIOCESAN COUNCIL OF RENO \nMerrily Invites You To Join Us in \nOur Centuries Old Filipino Tradition of \nSimbang Gabi 2024
URL:https://highdesertcatholic.studiobenna.com/event/simbang-gabi-2024/
LOCATION:Immaculate Conception Parish
CATEGORIES:Diocesan Event|Parish,Ethnic Ministry
END:VEVENT
END:VCALENDAR