BEGIN:VCALENDAR
VERSION:2.0
PRODID:-//Diocese of Reno - ECPv6.15.20//NONSGML v1.0//EN
CALSCALE:GREGORIAN
METHOD:PUBLISH
X-WR-CALNAME:Diocese of Reno
X-ORIGINAL-URL:https://highdesertcatholic.studiobenna.com
X-WR-CALDESC:Events for Diocese of Reno
REFRESH-INTERVAL;VALUE=DURATION:PT1H
X-Robots-Tag:noindex
X-PUBLISHED-TTL:PT1H
BEGIN:VTIMEZONE
TZID:America/Los_Angeles
BEGIN:DAYLIGHT
TZOFFSETFROM:-0800
TZOFFSETTO:-0700
TZNAME:PDT
DTSTART:20240310T100000
END:DAYLIGHT
BEGIN:STANDARD
TZOFFSETFROM:-0700
TZOFFSETTO:-0800
TZNAME:PST
DTSTART:20241103T090000
END:STANDARD
BEGIN:DAYLIGHT
TZOFFSETFROM:-0800
TZOFFSETTO:-0700
TZNAME:PDT
DTSTART:20250309T100000
END:DAYLIGHT
BEGIN:STANDARD
TZOFFSETFROM:-0700
TZOFFSETTO:-0800
TZNAME:PST
DTSTART:20251102T090000
END:STANDARD
BEGIN:DAYLIGHT
TZOFFSETFROM:-0800
TZOFFSETTO:-0700
TZNAME:PDT
DTSTART:20260308T100000
END:DAYLIGHT
BEGIN:STANDARD
TZOFFSETFROM:-0700
TZOFFSETTO:-0800
TZNAME:PST
DTSTART:20261101T090000
END:STANDARD
END:VTIMEZONE
BEGIN:VEVENT
DTSTART;TZID=America/Los_Angeles:20251101T170000
DTEND;TZID=America/Los_Angeles:20251101T210000
DTSTAMP:20260425T032507
CREATED:20250218T015530Z
LAST-MODIFIED:20250225T231757Z
UID:39496-1762016400-1762030800@highdesertcatholic.studiobenna.com
SUMMARY:Pre Cana (Marriage Preparation)
DESCRIPTION:Pre-Cana
URL:https://highdesertcatholic.studiobenna.com/event/pre-cana-marriage-preparation-7/
CATEGORIES:Ethnic Ministry
END:VEVENT
BEGIN:VEVENT
DTSTART;TZID=America/Los_Angeles:20251029T190000
DTEND;TZID=America/Los_Angeles:20251029T194500
DTSTAMP:20260425T032507
CREATED:20250116T000125Z
LAST-MODIFIED:20250513T140247Z
UID:39543-1761764400-1761767100@highdesertcatholic.studiobenna.com
SUMMARY:Contemplative Prayer Group
DESCRIPTION:Through contemplative prayer\, we have discovered that a powerful yet gentle energy is generated by simply sitting together in silent prayer. \nGuided by one of our Carmelite sisters\, the Contemplative Prayer Group meets at our monastery chapel \non the second and last Wednesday of each month from 7:00 p.m. – 7:45 p.m. All are welcome to join us! \nA one-time registration is required so that we can plan attendance and email reminders before each scheduled meeting. \nOnce registered\, you may attend as often as you like\, in person or virtually. Zoom links will be provided. \nRegister Here \nOr call (775) 323-3236 Ext. 1 to register by phone.
URL:https://highdesertcatholic.studiobenna.com/event/contemplative-prayer-group-4-2025-10-29/
LOCATION:Carmel of Reno\, 1950 La Fond Dr.\, Reno\, NV\, 89509\, United States
ATTACH;FMTTYPE=image/jpeg:https://highdesertcatholic.studiobenna.com/wp-content/uploads/2025/01/beach_photo-by-Kelley-Mooneyham.jpg
ORGANIZER;CN="Carmel of Reno":MAILTO:office@carmelofreno.net
END:VEVENT
BEGIN:VEVENT
DTSTART;TZID=America/Los_Angeles:20251021T143000
DTEND;TZID=America/Los_Angeles:20251021T160000
DTSTAMP:20260425T032507
CREATED:20230703T181148Z
LAST-MODIFIED:20230703T181148Z
UID:30166-1761057000-1761062400@highdesertcatholic.studiobenna.com
SUMMARY:OLS Food Distribution Day
DESCRIPTION:the 1st and 3rd Tuesdays of the Month\, Food assistance is offered at OLS Parish with the help of Catholic Charities. \nIf anyone needs some assistance or wants to volunteer come by!
URL:https://highdesertcatholic.studiobenna.com/event/ols-food-distribution-day-2025-10-21/
LOCATION:Our Lady of the Snows
ATTACH;FMTTYPE=image/jpeg:https://highdesertcatholic.studiobenna.com/wp-content/uploads/2023/06/OLS-1.jpg
END:VEVENT
BEGIN:VEVENT
DTSTART;TZID=America/Los_Angeles:20251017T120000
DTEND;TZID=America/Los_Angeles:20251017T133000
DTSTAMP:20260425T032507
CREATED:20250501T142449Z
LAST-MODIFIED:20250501T142449Z
UID:41187-1760702400-1760707800@highdesertcatholic.studiobenna.com
SUMMARY:SERRA Club mass and meeting
DESCRIPTION: miJunipero Serra Club of Northern Nevada will meet May 16\, 2025 at Our Lady of the Snows Parish Center for mass\, lunch and meeting at Noon
URL:https://highdesertcatholic.studiobenna.com/event/serra-club-mass-and-meeting-2025-10-17/
END:VEVENT
BEGIN:VEVENT
DTSTART;TZID=America/Los_Angeles:20251016T093000
DTEND;TZID=America/Los_Angeles:20251016T113000
DTSTAMP:20260425T032507
CREATED:20250514T230040Z
LAST-MODIFIED:20250515T220315Z
UID:41600-1760607000-1760614200@highdesertcatholic.studiobenna.com
SUMMARY:Ministry of Mothers: MOMs Fall 2025 Schedule
DESCRIPTION:First & Third Thursdays of the month. Our fall semester will begin September 4th\, 2025. \nSt. Rose of Lima Catholic Church \n9:30am – 11:30am \nSpeaker \nBible Basics for Catholics \nJohn Bergsma (Virtual\nPresentation) \nMore Info:
URL:https://highdesertcatholic.studiobenna.com/event/moms-fall-2025-schedule-4/
LOCATION:St. Rose of Lima Catholic Church
CATEGORIES:Ministry of Mothers
END:VEVENT
BEGIN:VEVENT
DTSTART;TZID=America/Los_Angeles:20251008T190000
DTEND;TZID=America/Los_Angeles:20251008T194500
DTSTAMP:20260425T032507
CREATED:20250116T000125Z
LAST-MODIFIED:20250414T222813Z
UID:39526-1759950000-1759952700@highdesertcatholic.studiobenna.com
SUMMARY:Contemplative Prayer Group
DESCRIPTION:Through contemplative prayer\, we have discovered that a powerful yet gentle energy is generated by simply sitting together in silent prayer. \nGuided by one of our Carmelite sisters\, the Contemplative Prayer Group meets at our monastery chapel \non the second and last Wednesday of each month from 7:00 p.m. – 7:45 p.m. All are welcome to join us! \nA one-time registration is required so that we can plan attendance and email reminders before each scheduled meeting. \nOnce registered\, you may attend as often as you like\, in person or virtually. Zoom links will be provided. \nRegister Here \nOr call (775) 323-3236 Ext. 1 to register by phone.
URL:https://highdesertcatholic.studiobenna.com/event/contemplative-prayer-group-4-2025-10-08/
LOCATION:Carmel of Reno\, 1950 La Fond Dr.\, Reno\, NV\, 89509\, United States
ATTACH;FMTTYPE=image/jpeg:https://highdesertcatholic.studiobenna.com/wp-content/uploads/2025/01/beach_photo-by-Kelley-Mooneyham.jpg
ORGANIZER;CN="Carmel of Reno":MAILTO:office@carmelofreno.net
END:VEVENT
BEGIN:VEVENT
DTSTART;TZID=America/Los_Angeles:20251007T143000
DTEND;TZID=America/Los_Angeles:20251007T160000
DTSTAMP:20260425T032507
CREATED:20230703T181148Z
LAST-MODIFIED:20230703T181148Z
UID:30161-1759847400-1759852800@highdesertcatholic.studiobenna.com
SUMMARY:OLS Food Distribution Day
DESCRIPTION:the 1st and 3rd Tuesdays of the Month\, Food assistance is offered at OLS Parish with the help of Catholic Charities. \nIf anyone needs some assistance or wants to volunteer come by!
URL:https://highdesertcatholic.studiobenna.com/event/ols-food-distribution-day-2025-10-07/
LOCATION:Our Lady of the Snows
ATTACH;FMTTYPE=image/jpeg:https://highdesertcatholic.studiobenna.com/wp-content/uploads/2023/06/OLS-1.jpg
END:VEVENT
BEGIN:VEVENT
DTSTART;TZID=America/Los_Angeles:20251002T093000
DTEND;TZID=America/Los_Angeles:20251002T113000
DTSTAMP:20260425T032507
CREATED:20250514T225726Z
LAST-MODIFIED:20250515T220207Z
UID:41598-1759397400-1759404600@highdesertcatholic.studiobenna.com
SUMMARY:Ministry of Mothers: MOMs Fall 2025 Schedule
DESCRIPTION:First & Third Thursdays of the month. Our fall semester will begin September 4th\, 2025. \nSt. Rose of Lima Catholic Church \n9:30am – 11:30am \nSpeaker \nMary as the New Eve \nSean Heenan \nMore Info:
URL:https://highdesertcatholic.studiobenna.com/event/moms-fall-2025-schedule-3/
LOCATION:St. Rose of Lima Catholic Church
CATEGORIES:Ministry of Mothers
END:VEVENT
BEGIN:VEVENT
DTSTART;TZID=America/Los_Angeles:20250924T190000
DTEND;TZID=America/Los_Angeles:20250924T194500
DTSTAMP:20260425T032507
CREATED:20250116T000125Z
LAST-MODIFIED:20250414T222812Z
UID:39542-1758740400-1758743100@highdesertcatholic.studiobenna.com
SUMMARY:Contemplative Prayer Group
DESCRIPTION:Through contemplative prayer\, we have discovered that a powerful yet gentle energy is generated by simply sitting together in silent prayer. \nGuided by one of our Carmelite sisters\, the Contemplative Prayer Group meets at our monastery chapel \non the second and last Wednesday of each month from 7:00 p.m. – 7:45 p.m. All are welcome to join us! \nA one-time registration is required so that we can plan attendance and email reminders before each scheduled meeting. \nOnce registered\, you may attend as often as you like\, in person or virtually. Zoom links will be provided. \nRegister Here \nOr call (775) 323-3236 Ext. 1 to register by phone.
URL:https://highdesertcatholic.studiobenna.com/event/contemplative-prayer-group-4-2025-09-24/
LOCATION:Carmel of Reno\, 1950 La Fond Dr.\, Reno\, NV\, 89509\, United States
ATTACH;FMTTYPE=image/jpeg:https://highdesertcatholic.studiobenna.com/wp-content/uploads/2025/01/beach_photo-by-Kelley-Mooneyham.jpg
ORGANIZER;CN="Carmel of Reno":MAILTO:office@carmelofreno.net
END:VEVENT
BEGIN:VEVENT
DTSTART;TZID=America/Los_Angeles:20250919T120000
DTEND;TZID=America/Los_Angeles:20250919T133000
DTSTAMP:20260425T032507
CREATED:20250501T142449Z
LAST-MODIFIED:20250501T142449Z
UID:41186-1758283200-1758288600@highdesertcatholic.studiobenna.com
SUMMARY:SERRA Club mass and meeting
DESCRIPTION: miJunipero Serra Club of Northern Nevada will meet May 16\, 2025 at Our Lady of the Snows Parish Center for mass\, lunch and meeting at Noon
URL:https://highdesertcatholic.studiobenna.com/event/serra-club-mass-and-meeting-2025-09-19/
END:VEVENT
BEGIN:VEVENT
DTSTART;TZID=America/Los_Angeles:20250918T093000
DTEND;TZID=America/Los_Angeles:20250918T113000
DTSTAMP:20260425T032507
CREATED:20250514T225309Z
LAST-MODIFIED:20250515T220100Z
UID:41595-1758187800-1758195000@highdesertcatholic.studiobenna.com
SUMMARY:Ministry of Mothers: MOMs Fall 2025 Schedule
DESCRIPTION:First & Third Thursdays of the month. Our fall semester will begin September 4th\, 2025. \nSt. Rose of Lima Catholic Church \n9:30am – 11:30am \nSpeaker \nThe Mission of the Family \nJon Leonetti (Virtual\nPresentation) \nMore Info:
URL:https://highdesertcatholic.studiobenna.com/event/moms-fall-2025-schedule-2/
LOCATION:St. Rose of Lima Catholic Church
CATEGORIES:Ministry of Mothers
END:VEVENT
BEGIN:VEVENT
DTSTART;TZID=America/Los_Angeles:20250916T143000
DTEND;TZID=America/Los_Angeles:20250916T160000
DTSTAMP:20260425T032507
CREATED:20230703T181148Z
LAST-MODIFIED:20230703T181148Z
UID:30165-1758033000-1758038400@highdesertcatholic.studiobenna.com
SUMMARY:OLS Food Distribution Day
DESCRIPTION:the 1st and 3rd Tuesdays of the Month\, Food assistance is offered at OLS Parish with the help of Catholic Charities. \nIf anyone needs some assistance or wants to volunteer come by!
URL:https://highdesertcatholic.studiobenna.com/event/ols-food-distribution-day-2025-09-16/
LOCATION:Our Lady of the Snows
ATTACH;FMTTYPE=image/jpeg:https://highdesertcatholic.studiobenna.com/wp-content/uploads/2023/06/OLS-1.jpg
END:VEVENT
BEGIN:VEVENT
DTSTART;TZID=America/Los_Angeles:20250910T190000
DTEND;TZID=America/Los_Angeles:20250910T194500
DTSTAMP:20260425T032507
CREATED:20250116T000125Z
LAST-MODIFIED:20250414T222812Z
UID:39525-1757530800-1757533500@highdesertcatholic.studiobenna.com
SUMMARY:Contemplative Prayer Group
DESCRIPTION:Through contemplative prayer\, we have discovered that a powerful yet gentle energy is generated by simply sitting together in silent prayer. \nGuided by one of our Carmelite sisters\, the Contemplative Prayer Group meets at our monastery chapel \non the second and last Wednesday of each month from 7:00 p.m. – 7:45 p.m. All are welcome to join us! \nA one-time registration is required so that we can plan attendance and email reminders before each scheduled meeting. \nOnce registered\, you may attend as often as you like\, in person or virtually. Zoom links will be provided. \nRegister Here \nOr call (775) 323-3236 Ext. 1 to register by phone.
URL:https://highdesertcatholic.studiobenna.com/event/contemplative-prayer-group-4-2025-09-10/
LOCATION:Carmel of Reno\, 1950 La Fond Dr.\, Reno\, NV\, 89509\, United States
ATTACH;FMTTYPE=image/jpeg:https://highdesertcatholic.studiobenna.com/wp-content/uploads/2025/01/beach_photo-by-Kelley-Mooneyham.jpg
ORGANIZER;CN="Carmel of Reno":MAILTO:office@carmelofreno.net
END:VEVENT
BEGIN:VEVENT
DTSTART;TZID=America/Los_Angeles:20250904T093000
DTEND;TZID=America/Los_Angeles:20250904T113000
DTSTAMP:20260425T032507
CREATED:20250514T224907Z
LAST-MODIFIED:20250515T212044Z
UID:41592-1756978200-1756985400@highdesertcatholic.studiobenna.com
SUMMARY:Ministry of Mothers: MOMs Fall 2025 Schedule
DESCRIPTION:First & Third Thursdays of the month. Our fall semester will begin September 4th\, 2025. \nSt. Rose of Lima Catholic Church \n9:30am – 11:30am \nSpeaker \nNew Year! Orientation\, Craft\,\nTable Topics \nMore Info:
URL:https://highdesertcatholic.studiobenna.com/event/moms-fall-2025-schedule/
LOCATION:St. Rose of Lima Catholic Church
CATEGORIES:Ministry of Mothers
ATTACH;FMTTYPE=image/png:https://highdesertcatholic.studiobenna.com/wp-content/uploads/2025/05/3b6bfa06f8046c0728b4274a447fa98f.png
END:VEVENT
BEGIN:VEVENT
DTSTART;TZID=America/Los_Angeles:20250902T143000
DTEND;TZID=America/Los_Angeles:20250902T160000
DTSTAMP:20260425T032507
CREATED:20230703T181148Z
LAST-MODIFIED:20230703T181148Z
UID:27030-1756823400-1756828800@highdesertcatholic.studiobenna.com
SUMMARY:OLS Food Distribution Day
DESCRIPTION:the 1st and 3rd Tuesdays of the Month\, Food assistance is offered at OLS Parish with the help of Catholic Charities. \nIf anyone needs some assistance or wants to volunteer come by!
URL:https://highdesertcatholic.studiobenna.com/event/ols-food-distribution-day-2025-09-02/
LOCATION:Our Lady of the Snows
ATTACH;FMTTYPE=image/jpeg:https://highdesertcatholic.studiobenna.com/wp-content/uploads/2023/06/OLS-1.jpg
END:VEVENT
BEGIN:VEVENT
DTSTART;TZID=America/Los_Angeles:20250827T190000
DTEND;TZID=America/Los_Angeles:20250827T194500
DTSTAMP:20260425T032507
CREATED:20250116T000125Z
LAST-MODIFIED:20250414T222811Z
UID:39541-1756321200-1756323900@highdesertcatholic.studiobenna.com
SUMMARY:Contemplative Prayer Group
DESCRIPTION:Through contemplative prayer\, we have discovered that a powerful yet gentle energy is generated by simply sitting together in silent prayer. \nGuided by one of our Carmelite sisters\, the Contemplative Prayer Group meets at our monastery chapel \non the second and last Wednesday of each month from 7:00 p.m. – 7:45 p.m. All are welcome to join us! \nA one-time registration is required so that we can plan attendance and email reminders before each scheduled meeting. \nOnce registered\, you may attend as often as you like\, in person or virtually. Zoom links will be provided. \nRegister Here \nOr call (775) 323-3236 Ext. 1 to register by phone.
URL:https://highdesertcatholic.studiobenna.com/event/contemplative-prayer-group-4-2025-08-27/
LOCATION:Carmel of Reno\, 1950 La Fond Dr.\, Reno\, NV\, 89509\, United States
ATTACH;FMTTYPE=image/jpeg:https://highdesertcatholic.studiobenna.com/wp-content/uploads/2025/01/beach_photo-by-Kelley-Mooneyham.jpg
ORGANIZER;CN="Carmel of Reno":MAILTO:office@carmelofreno.net
END:VEVENT
BEGIN:VEVENT
DTSTART;TZID=America/Los_Angeles:20250824T083000
DTEND;TZID=America/Los_Angeles:20250824T170000
DTSTAMP:20260425T032507
CREATED:20250218T015347Z
LAST-MODIFIED:20250225T231602Z
UID:39494-1756024200-1756054800@highdesertcatholic.studiobenna.com
SUMMARY:Pre Cana (Marriage Preparation)
DESCRIPTION:Pre-Cana
URL:https://highdesertcatholic.studiobenna.com/event/pre-cana-marriage-preparation-6/
CATEGORIES:Ethnic Ministry
END:VEVENT
BEGIN:VEVENT
DTSTART;TZID=America/Los_Angeles:20250823T170000
DTEND;TZID=America/Los_Angeles:20250823T210000
DTSTAMP:20260425T032507
CREATED:20250218T015203Z
LAST-MODIFIED:20250225T231340Z
UID:39492-1755968400-1755982800@highdesertcatholic.studiobenna.com
SUMMARY:Pre Cana (Marriage Preparation)
DESCRIPTION: 
URL:https://highdesertcatholic.studiobenna.com/event/pre-cana-marriage-preparation-5/
CATEGORIES:Ethnic Ministry
END:VEVENT
BEGIN:VEVENT
DTSTART;TZID=America/Los_Angeles:20250819T143000
DTEND;TZID=America/Los_Angeles:20250819T160000
DTSTAMP:20260425T032507
CREATED:20230703T181148Z
LAST-MODIFIED:20230703T181148Z
UID:27031-1755613800-1755619200@highdesertcatholic.studiobenna.com
SUMMARY:OLS Food Distribution Day
DESCRIPTION:the 1st and 3rd Tuesdays of the Month\, Food assistance is offered at OLS Parish with the help of Catholic Charities. \nIf anyone needs some assistance or wants to volunteer come by!
URL:https://highdesertcatholic.studiobenna.com/event/ols-food-distribution-day-2025-08-19/
LOCATION:Our Lady of the Snows
ATTACH;FMTTYPE=image/jpeg:https://highdesertcatholic.studiobenna.com/wp-content/uploads/2023/06/OLS-1.jpg
END:VEVENT
BEGIN:VEVENT
DTSTART;TZID=America/Los_Angeles:20250815T120000
DTEND;TZID=America/Los_Angeles:20250815T133000
DTSTAMP:20260425T032507
CREATED:20250501T142448Z
LAST-MODIFIED:20250501T142448Z
UID:41185-1755259200-1755264600@highdesertcatholic.studiobenna.com
SUMMARY:SERRA Club mass and meeting
DESCRIPTION: miJunipero Serra Club of Northern Nevada will meet May 16\, 2025 at Our Lady of the Snows Parish Center for mass\, lunch and meeting at Noon
URL:https://highdesertcatholic.studiobenna.com/event/serra-club-mass-and-meeting-2025-08-15/
END:VEVENT
BEGIN:VEVENT
DTSTART;TZID=America/Los_Angeles:20250813T190000
DTEND;TZID=America/Los_Angeles:20250813T194500
DTSTAMP:20260425T032507
CREATED:20250116T000125Z
LAST-MODIFIED:20250414T222810Z
UID:39524-1755111600-1755114300@highdesertcatholic.studiobenna.com
SUMMARY:Contemplative Prayer Group
DESCRIPTION:Through contemplative prayer\, we have discovered that a powerful yet gentle energy is generated by simply sitting together in silent prayer. \nGuided by one of our Carmelite sisters\, the Contemplative Prayer Group meets at our monastery chapel \non the second and last Wednesday of each month from 7:00 p.m. – 7:45 p.m. All are welcome to join us! \nA one-time registration is required so that we can plan attendance and email reminders before each scheduled meeting. \nOnce registered\, you may attend as often as you like\, in person or virtually. Zoom links will be provided. \nRegister Here \nOr call (775) 323-3236 Ext. 1 to register by phone.
URL:https://highdesertcatholic.studiobenna.com/event/contemplative-prayer-group-4-2025-08-13/
LOCATION:Carmel of Reno\, 1950 La Fond Dr.\, Reno\, NV\, 89509\, United States
ATTACH;FMTTYPE=image/jpeg:https://highdesertcatholic.studiobenna.com/wp-content/uploads/2025/01/beach_photo-by-Kelley-Mooneyham.jpg
ORGANIZER;CN="Carmel of Reno":MAILTO:office@carmelofreno.net
END:VEVENT
BEGIN:VEVENT
DTSTART;TZID=America/Los_Angeles:20250805T143000
DTEND;TZID=America/Los_Angeles:20250805T160000
DTSTAMP:20260425T032507
CREATED:20230703T181148Z
LAST-MODIFIED:20230703T181148Z
UID:26346-1754404200-1754409600@highdesertcatholic.studiobenna.com
SUMMARY:OLS Food Distribution Day
DESCRIPTION:the 1st and 3rd Tuesdays of the Month\, Food assistance is offered at OLS Parish with the help of Catholic Charities. \nIf anyone needs some assistance or wants to volunteer come by!
URL:https://highdesertcatholic.studiobenna.com/event/ols-food-distribution-day-2025-08-05/
LOCATION:Our Lady of the Snows
ATTACH;FMTTYPE=image/jpeg:https://highdesertcatholic.studiobenna.com/wp-content/uploads/2023/06/OLS-1.jpg
END:VEVENT
BEGIN:VEVENT
DTSTART;TZID=America/Los_Angeles:20250801T080000
DTEND;TZID=America/Los_Angeles:20250803T170000
DTSTAMP:20260425T032507
CREATED:20250324T222827Z
LAST-MODIFIED:20250324T222827Z
UID:40099-1754035200-1754240400@highdesertcatholic.studiobenna.com
SUMMARY:Project Rachel Ministry Weekend Retreats for Healing after abortion
DESCRIPTION:Diocese of Sacramento\, CA \nProject Rachel Ministry Weekend Retreats for Healing after abortion \nAugust 1-3\, 2025—Men’s Retreat (English) \nRegister:  https://catholic.formstack.com/forms/rachel \nAll inquiries are confidential. \n916-733-0161 or projectrachel@scd.org
URL:https://highdesertcatholic.studiobenna.com/event/project-rachel-ministry-weekend-retreats-for-healing-after-abortion-2/
LOCATION:Diocese of Sacramento\, CA
CATEGORIES:Parish,Project Rachel
END:VEVENT
BEGIN:VEVENT
DTSTART;TZID=America/Los_Angeles:20250730T190000
DTEND;TZID=America/Los_Angeles:20250730T194500
DTSTAMP:20260425T032507
CREATED:20250116T000125Z
LAST-MODIFIED:20250414T222809Z
UID:39540-1753902000-1753904700@highdesertcatholic.studiobenna.com
SUMMARY:Contemplative Prayer Group
DESCRIPTION:Through contemplative prayer\, we have discovered that a powerful yet gentle energy is generated by simply sitting together in silent prayer. \nGuided by one of our Carmelite sisters\, the Contemplative Prayer Group meets at our monastery chapel \non the second and last Wednesday of each month from 7:00 p.m. – 7:45 p.m. All are welcome to join us! \nA one-time registration is required so that we can plan attendance and email reminders before each scheduled meeting. \nOnce registered\, you may attend as often as you like\, in person or virtually. Zoom links will be provided. \nRegister Here \nOr call (775) 323-3236 Ext. 1 to register by phone.
URL:https://highdesertcatholic.studiobenna.com/event/contemplative-prayer-group-4-2025-07-30/
LOCATION:Carmel of Reno\, 1950 La Fond Dr.\, Reno\, NV\, 89509\, United States
ATTACH;FMTTYPE=image/jpeg:https://highdesertcatholic.studiobenna.com/wp-content/uploads/2025/01/beach_photo-by-Kelley-Mooneyham.jpg
ORGANIZER;CN="Carmel of Reno":MAILTO:office@carmelofreno.net
END:VEVENT
BEGIN:VEVENT
DTSTART;TZID=America/Los_Angeles:20250725T161500
DTEND;TZID=America/Los_Angeles:20250725T200000
DTSTAMP:20260425T032507
CREATED:20250530T035416Z
LAST-MODIFIED:20250530T035416Z
UID:41946-1753460100-1753473600@highdesertcatholic.studiobenna.com
SUMMARY:Faith & Family Baseball Night
DESCRIPTION:THE DIOCESE OF RENO FAITH FORMATION OFFICE WOULD \nLIKE TO INVITE YOU TO JOIN US FOR A \nFaith & Family Baseball Night \nRENO ACES VS. OKLAHOMA CITY COMETS \nFRIDAY\, JULY 25TH 2025 \nGREATER NEVADA FIELD \nFESTIVITIES: 4:15PM \nGAME TIME: 6:35PM \nTICKET PRICING: $18-24 \nPURCHASE DEADLINE: JULY 25\, 2025 \n  \nFESTIVITES INCLUDE LIVE MUSIC\, INSPIRATIONAL STORIES\, BASEBALL\, AND FIREWORKS \n  \nTO PURCHASE TICKETS AT A DISCOUNTED RATE. \nPLEASE GO TO: HTTPS://TINYURL.COM/MVRENJKC
URL:https://highdesertcatholic.studiobenna.com/event/faith-family-baseball-night-2/
LOCATION:Greater Nevada Field\, 250 Evans Avenue\, Reno\, 89501\, United States
CATEGORIES:Diocesan Event|Parish
END:VEVENT
BEGIN:VEVENT
DTSTART;TZID=America/Los_Angeles:20250725T080000
DTEND;TZID=America/Los_Angeles:20250727T170000
DTSTAMP:20260425T032507
CREATED:20250513T004044Z
LAST-MODIFIED:20250513T004044Z
UID:41541-1753430400-1753635600@highdesertcatholic.studiobenna.com
SUMMARY:St. Albert's Family Camp
DESCRIPTION:St. Albert’s Family Camp \nJuly 28-27\, 2025 \nEmigrant Camp Stampede Reservoir \nFamily cost: $50 Saturday Only $150 Whole Weekend \nIncludes: Meals and Activities \nRegister Here:
URL:https://highdesertcatholic.studiobenna.com/event/st-alberts-family-camp/
LOCATION:Emigrant Camp Stampede Reservoir
CATEGORIES:Parish
END:VEVENT
BEGIN:VEVENT
DTSTART;TZID=America/Los_Angeles:20250724T090000
DTEND;TZID=America/Los_Angeles:20250724T115000
DTSTAMP:20260425T032507
CREATED:20250529T221626Z
LAST-MODIFIED:20250529T221626Z
UID:41934-1753347600-1753357800@highdesertcatholic.studiobenna.com
SUMMARY:Sonshine Summer Children and Youth Camp
DESCRIPTION:Sonshine Summer is almost here! \nMark your calendars for July 21–24\, from 9:00 AM to 11:50 AM!\n\n\n Registration is now open in the Gathering Space and Parish Office!\n\n\nChildren from Pre-K (must be potty trained) through 6th grade are invited to join us for a week filled with faith\, fun\, and friendship through exciting activities\, games\, music\, and more!\n\n\n Youth Volunteers:\nStudents from 7th grade through high school are encouraged to be part of the fun by helping out as youth volunteers—a great way to grow in faith and leadership!\n\n\n Adult Volunteers Needed:\nWe’re also looking for adult volunteers to help lead various activities. If you’re interested in volunteering\, please contact the Parish Office.\n\n\nLet’s make this Sonshine Summer one to remember!
URL:https://highdesertcatholic.studiobenna.com/event/sonshine-summer-children-and-youth-camp-2025-07-24/
LOCATION:Holy Cross Sparks
CATEGORIES:Parish
END:VEVENT
BEGIN:VEVENT
DTSTART;TZID=America/Los_Angeles:20250723T090000
DTEND;TZID=America/Los_Angeles:20250723T115000
DTSTAMP:20260425T032507
CREATED:20250529T221626Z
LAST-MODIFIED:20250529T221626Z
UID:41933-1753261200-1753271400@highdesertcatholic.studiobenna.com
SUMMARY:Sonshine Summer Children and Youth Camp
DESCRIPTION:Sonshine Summer is almost here! \nMark your calendars for July 21–24\, from 9:00 AM to 11:50 AM!\n\n\n Registration is now open in the Gathering Space and Parish Office!\n\n\nChildren from Pre-K (must be potty trained) through 6th grade are invited to join us for a week filled with faith\, fun\, and friendship through exciting activities\, games\, music\, and more!\n\n\n Youth Volunteers:\nStudents from 7th grade through high school are encouraged to be part of the fun by helping out as youth volunteers—a great way to grow in faith and leadership!\n\n\n Adult Volunteers Needed:\nWe’re also looking for adult volunteers to help lead various activities. If you’re interested in volunteering\, please contact the Parish Office.\n\n\nLet’s make this Sonshine Summer one to remember!
URL:https://highdesertcatholic.studiobenna.com/event/sonshine-summer-children-and-youth-camp-2025-07-23/
LOCATION:Holy Cross Sparks
CATEGORIES:Parish
END:VEVENT
BEGIN:VEVENT
DTSTART;TZID=America/Los_Angeles:20250722T090000
DTEND;TZID=America/Los_Angeles:20250722T115000
DTSTAMP:20260425T032507
CREATED:20250529T221626Z
LAST-MODIFIED:20250529T221626Z
UID:41932-1753174800-1753185000@highdesertcatholic.studiobenna.com
SUMMARY:Sonshine Summer Children and Youth Camp
DESCRIPTION:Sonshine Summer is almost here! \nMark your calendars for July 21–24\, from 9:00 AM to 11:50 AM!\n\n\n Registration is now open in the Gathering Space and Parish Office!\n\n\nChildren from Pre-K (must be potty trained) through 6th grade are invited to join us for a week filled with faith\, fun\, and friendship through exciting activities\, games\, music\, and more!\n\n\n Youth Volunteers:\nStudents from 7th grade through high school are encouraged to be part of the fun by helping out as youth volunteers—a great way to grow in faith and leadership!\n\n\n Adult Volunteers Needed:\nWe’re also looking for adult volunteers to help lead various activities. If you’re interested in volunteering\, please contact the Parish Office.\n\n\nLet’s make this Sonshine Summer one to remember!
URL:https://highdesertcatholic.studiobenna.com/event/sonshine-summer-children-and-youth-camp-2025-07-22/
LOCATION:Holy Cross Sparks
CATEGORIES:Parish
END:VEVENT
BEGIN:VEVENT
DTSTART;TZID=America/Los_Angeles:20250721T090000
DTEND;TZID=America/Los_Angeles:20250721T115000
DTSTAMP:20260425T032507
CREATED:20250529T221626Z
LAST-MODIFIED:20250529T221626Z
UID:41929-1753088400-1753098600@highdesertcatholic.studiobenna.com
SUMMARY:Sonshine Summer Children and Youth Camp
DESCRIPTION:Sonshine Summer is almost here! \nMark your calendars for July 21–24\, from 9:00 AM to 11:50 AM!\n\n\n Registration is now open in the Gathering Space and Parish Office!\n\n\nChildren from Pre-K (must be potty trained) through 6th grade are invited to join us for a week filled with faith\, fun\, and friendship through exciting activities\, games\, music\, and more!\n\n\n Youth Volunteers:\nStudents from 7th grade through high school are encouraged to be part of the fun by helping out as youth volunteers—a great way to grow in faith and leadership!\n\n\n Adult Volunteers Needed:\nWe’re also looking for adult volunteers to help lead various activities. If you’re interested in volunteering\, please contact the Parish Office.\n\n\nLet’s make this Sonshine Summer one to remember!
URL:https://highdesertcatholic.studiobenna.com/event/sonshine-summer-children-and-youth-camp/
LOCATION:Holy Cross Sparks
CATEGORIES:Parish
END:VEVENT
END:VCALENDAR