BEGIN:VCALENDAR
VERSION:2.0
PRODID:-//Diocese of Reno - ECPv6.15.20//NONSGML v1.0//EN
CALSCALE:GREGORIAN
METHOD:PUBLISH
X-ORIGINAL-URL:https://highdesertcatholic.studiobenna.com
X-WR-CALDESC:Events for Diocese of Reno
REFRESH-INTERVAL;VALUE=DURATION:PT1H
X-Robots-Tag:noindex
X-PUBLISHED-TTL:PT1H
BEGIN:VTIMEZONE
TZID:America/Los_Angeles
BEGIN:DAYLIGHT
TZOFFSETFROM:-0800
TZOFFSETTO:-0700
TZNAME:PDT
DTSTART:20260308T100000
END:DAYLIGHT
BEGIN:STANDARD
TZOFFSETFROM:-0700
TZOFFSETTO:-0800
TZNAME:PST
DTSTART:20261101T090000
END:STANDARD
BEGIN:DAYLIGHT
TZOFFSETFROM:-0800
TZOFFSETTO:-0700
TZNAME:PDT
DTSTART:20270314T100000
END:DAYLIGHT
BEGIN:STANDARD
TZOFFSETFROM:-0700
TZOFFSETTO:-0800
TZNAME:PST
DTSTART:20271107T090000
END:STANDARD
BEGIN:DAYLIGHT
TZOFFSETFROM:-0800
TZOFFSETTO:-0700
TZNAME:PDT
DTSTART:20280312T100000
END:DAYLIGHT
BEGIN:STANDARD
TZOFFSETFROM:-0700
TZOFFSETTO:-0800
TZNAME:PST
DTSTART:20281105T090000
END:STANDARD
BEGIN:DAYLIGHT
TZOFFSETFROM:-0800
TZOFFSETTO:-0700
TZNAME:PDT
DTSTART:20290311T100000
END:DAYLIGHT
BEGIN:STANDARD
TZOFFSETFROM:-0700
TZOFFSETTO:-0800
TZNAME:PST
DTSTART:20291104T090000
END:STANDARD
END:VTIMEZONE
BEGIN:VEVENT
DTSTART;TZID=America/Los_Angeles:20270620T100000
DTEND;TZID=America/Los_Angeles:20270620T120000
DTSTAMP:20260421T120259
CREATED:20241015T194811Z
LAST-MODIFIED:20241015T194811Z
UID:42045-1813485600-1813492800@highdesertcatholic.studiobenna.com
SUMMARY:Monthly Family Mass + Pancake Breakfast: St. Albert the Great
DESCRIPTION:Family Mass is back at St. Albert the Great and is being held on the second Sunday of each month during the 10:00AM Mass. Mass is being held in conjunction with the Knights of Columbus Pancake Breakfast.  \nDuring the Family Mass\, St. Albert the Great school students and their Catholic families contribute to the worship of the community by being involved in various aspects of the Mass. Families are encouraged to attend and participate in Family Mass. 
URL:https://highdesertcatholic.studiobenna.com/event/monthly-family-mass-pancake-breakfast-st-albert-the-great-2024-11-13-2027-06-20/
LOCATION:Saint Albert the Great\, 1250 Wyoming Ave\, Reno\, NV\, 89503\, United States
CATEGORIES:Parish
ATTACH;FMTTYPE=image/jpeg:https://highdesertcatholic.studiobenna.com/wp-content/uploads/2024/04/st-albert-.jpeg
END:VEVENT
BEGIN:VEVENT
DTSTART;TZID=America/Los_Angeles:20270718T100000
DTEND;TZID=America/Los_Angeles:20270718T120000
DTSTAMP:20260421T120259
CREATED:20241015T194811Z
LAST-MODIFIED:20241015T194811Z
UID:42060-1815904800-1815912000@highdesertcatholic.studiobenna.com
SUMMARY:Monthly Family Mass + Pancake Breakfast: St. Albert the Great
DESCRIPTION:Family Mass is back at St. Albert the Great and is being held on the second Sunday of each month during the 10:00AM Mass. Mass is being held in conjunction with the Knights of Columbus Pancake Breakfast.  \nDuring the Family Mass\, St. Albert the Great school students and their Catholic families contribute to the worship of the community by being involved in various aspects of the Mass. Families are encouraged to attend and participate in Family Mass. 
URL:https://highdesertcatholic.studiobenna.com/event/monthly-family-mass-pancake-breakfast-st-albert-the-great-2024-11-13-2027-07-18/
LOCATION:Saint Albert the Great\, 1250 Wyoming Ave\, Reno\, NV\, 89503\, United States
CATEGORIES:Parish
ATTACH;FMTTYPE=image/jpeg:https://highdesertcatholic.studiobenna.com/wp-content/uploads/2024/04/st-albert-.jpeg
END:VEVENT
BEGIN:VEVENT
DTSTART;TZID=America/Los_Angeles:20270815T100000
DTEND;TZID=America/Los_Angeles:20270815T120000
DTSTAMP:20260421T120259
CREATED:20241015T194811Z
LAST-MODIFIED:20241015T194811Z
UID:42070-1818324000-1818331200@highdesertcatholic.studiobenna.com
SUMMARY:Monthly Family Mass + Pancake Breakfast: St. Albert the Great
DESCRIPTION:Family Mass is back at St. Albert the Great and is being held on the second Sunday of each month during the 10:00AM Mass. Mass is being held in conjunction with the Knights of Columbus Pancake Breakfast.  \nDuring the Family Mass\, St. Albert the Great school students and their Catholic families contribute to the worship of the community by being involved in various aspects of the Mass. Families are encouraged to attend and participate in Family Mass. 
URL:https://highdesertcatholic.studiobenna.com/event/monthly-family-mass-pancake-breakfast-st-albert-the-great-2024-11-13-2027-08-15/
LOCATION:Saint Albert the Great\, 1250 Wyoming Ave\, Reno\, NV\, 89503\, United States
CATEGORIES:Parish
ATTACH;FMTTYPE=image/jpeg:https://highdesertcatholic.studiobenna.com/wp-content/uploads/2024/04/st-albert-.jpeg
END:VEVENT
BEGIN:VEVENT
DTSTART;TZID=America/Los_Angeles:20270912T100000
DTEND;TZID=America/Los_Angeles:20270912T120000
DTSTAMP:20260421T120259
CREATED:20241015T194811Z
LAST-MODIFIED:20241015T194811Z
UID:42080-1820743200-1820750400@highdesertcatholic.studiobenna.com
SUMMARY:Monthly Family Mass + Pancake Breakfast: St. Albert the Great
DESCRIPTION:Family Mass is back at St. Albert the Great and is being held on the second Sunday of each month during the 10:00AM Mass. Mass is being held in conjunction with the Knights of Columbus Pancake Breakfast.  \nDuring the Family Mass\, St. Albert the Great school students and their Catholic families contribute to the worship of the community by being involved in various aspects of the Mass. Families are encouraged to attend and participate in Family Mass. 
URL:https://highdesertcatholic.studiobenna.com/event/monthly-family-mass-pancake-breakfast-st-albert-the-great-2024-11-13-2027-09-12/
LOCATION:Saint Albert the Great\, 1250 Wyoming Ave\, Reno\, NV\, 89503\, United States
CATEGORIES:Parish
ATTACH;FMTTYPE=image/jpeg:https://highdesertcatholic.studiobenna.com/wp-content/uploads/2024/04/st-albert-.jpeg
END:VEVENT
BEGIN:VEVENT
DTSTART;TZID=America/Los_Angeles:20271010T100000
DTEND;TZID=America/Los_Angeles:20271010T120000
DTSTAMP:20260421T120259
CREATED:20241015T194811Z
LAST-MODIFIED:20241015T194811Z
UID:42090-1823162400-1823169600@highdesertcatholic.studiobenna.com
SUMMARY:Monthly Family Mass + Pancake Breakfast: St. Albert the Great
DESCRIPTION:Family Mass is back at St. Albert the Great and is being held on the second Sunday of each month during the 10:00AM Mass. Mass is being held in conjunction with the Knights of Columbus Pancake Breakfast.  \nDuring the Family Mass\, St. Albert the Great school students and their Catholic families contribute to the worship of the community by being involved in various aspects of the Mass. Families are encouraged to attend and participate in Family Mass. 
URL:https://highdesertcatholic.studiobenna.com/event/monthly-family-mass-pancake-breakfast-st-albert-the-great-2024-11-13-2027-10-10/
LOCATION:Saint Albert the Great\, 1250 Wyoming Ave\, Reno\, NV\, 89503\, United States
CATEGORIES:Parish
ATTACH;FMTTYPE=image/jpeg:https://highdesertcatholic.studiobenna.com/wp-content/uploads/2024/04/st-albert-.jpeg
END:VEVENT
BEGIN:VEVENT
DTSTART;TZID=America/Los_Angeles:20271107T100000
DTEND;TZID=America/Los_Angeles:20271107T120000
DTSTAMP:20260421T120259
CREATED:20241015T194811Z
LAST-MODIFIED:20241015T194811Z
UID:42099-1825581600-1825588800@highdesertcatholic.studiobenna.com
SUMMARY:Monthly Family Mass + Pancake Breakfast: St. Albert the Great
DESCRIPTION:Family Mass is back at St. Albert the Great and is being held on the second Sunday of each month during the 10:00AM Mass. Mass is being held in conjunction with the Knights of Columbus Pancake Breakfast.  \nDuring the Family Mass\, St. Albert the Great school students and their Catholic families contribute to the worship of the community by being involved in various aspects of the Mass. Families are encouraged to attend and participate in Family Mass. 
URL:https://highdesertcatholic.studiobenna.com/event/monthly-family-mass-pancake-breakfast-st-albert-the-great-2024-11-13-2027-11-07/
LOCATION:Saint Albert the Great\, 1250 Wyoming Ave\, Reno\, NV\, 89503\, United States
CATEGORIES:Parish
ATTACH;FMTTYPE=image/jpeg:https://highdesertcatholic.studiobenna.com/wp-content/uploads/2024/04/st-albert-.jpeg
END:VEVENT
BEGIN:VEVENT
DTSTART;TZID=America/Los_Angeles:20271205T100000
DTEND;TZID=America/Los_Angeles:20271205T120000
DTSTAMP:20260421T120259
CREATED:20241015T194811Z
LAST-MODIFIED:20241015T194811Z
UID:42104-1828000800-1828008000@highdesertcatholic.studiobenna.com
SUMMARY:Monthly Family Mass + Pancake Breakfast: St. Albert the Great
DESCRIPTION:Family Mass is back at St. Albert the Great and is being held on the second Sunday of each month during the 10:00AM Mass. Mass is being held in conjunction with the Knights of Columbus Pancake Breakfast.  \nDuring the Family Mass\, St. Albert the Great school students and their Catholic families contribute to the worship of the community by being involved in various aspects of the Mass. Families are encouraged to attend and participate in Family Mass. 
URL:https://highdesertcatholic.studiobenna.com/event/monthly-family-mass-pancake-breakfast-st-albert-the-great-2024-11-13-2027-12-05/
LOCATION:Saint Albert the Great\, 1250 Wyoming Ave\, Reno\, NV\, 89503\, United States
CATEGORIES:Parish
ATTACH;FMTTYPE=image/jpeg:https://highdesertcatholic.studiobenna.com/wp-content/uploads/2024/04/st-albert-.jpeg
END:VEVENT
BEGIN:VEVENT
DTSTART;TZID=America/Los_Angeles:20280102T100000
DTEND;TZID=America/Los_Angeles:20280102T120000
DTSTAMP:20260421T120259
CREATED:20241015T194811Z
LAST-MODIFIED:20241015T194811Z
UID:42108-1830420000-1830427200@highdesertcatholic.studiobenna.com
SUMMARY:Monthly Family Mass + Pancake Breakfast: St. Albert the Great
DESCRIPTION:Family Mass is back at St. Albert the Great and is being held on the second Sunday of each month during the 10:00AM Mass. Mass is being held in conjunction with the Knights of Columbus Pancake Breakfast.  \nDuring the Family Mass\, St. Albert the Great school students and their Catholic families contribute to the worship of the community by being involved in various aspects of the Mass. Families are encouraged to attend and participate in Family Mass. 
URL:https://highdesertcatholic.studiobenna.com/event/monthly-family-mass-pancake-breakfast-st-albert-the-great-2024-11-13-2028-01-02/
LOCATION:Saint Albert the Great\, 1250 Wyoming Ave\, Reno\, NV\, 89503\, United States
CATEGORIES:Parish
ATTACH;FMTTYPE=image/jpeg:https://highdesertcatholic.studiobenna.com/wp-content/uploads/2024/04/st-albert-.jpeg
END:VEVENT
END:VCALENDAR