BEGIN:VCALENDAR
VERSION:2.0
PRODID:-//Diocese of Reno - ECPv6.15.20//NONSGML v1.0//EN
CALSCALE:GREGORIAN
METHOD:PUBLISH
X-WR-CALNAME:Diocese of Reno
X-ORIGINAL-URL:https://highdesertcatholic.studiobenna.com
X-WR-CALDESC:Events for Diocese of Reno
REFRESH-INTERVAL;VALUE=DURATION:PT1H
X-Robots-Tag:noindex
X-PUBLISHED-TTL:PT1H
BEGIN:VTIMEZONE
TZID:America/Los_Angeles
BEGIN:DAYLIGHT
TZOFFSETFROM:-0800
TZOFFSETTO:-0700
TZNAME:PDT
DTSTART:20250309T100000
END:DAYLIGHT
BEGIN:STANDARD
TZOFFSETFROM:-0700
TZOFFSETTO:-0800
TZNAME:PST
DTSTART:20251102T090000
END:STANDARD
BEGIN:DAYLIGHT
TZOFFSETFROM:-0800
TZOFFSETTO:-0700
TZNAME:PDT
DTSTART:20260308T100000
END:DAYLIGHT
BEGIN:STANDARD
TZOFFSETFROM:-0700
TZOFFSETTO:-0800
TZNAME:PST
DTSTART:20261101T090000
END:STANDARD
BEGIN:DAYLIGHT
TZOFFSETFROM:-0800
TZOFFSETTO:-0700
TZNAME:PDT
DTSTART:20270314T100000
END:DAYLIGHT
BEGIN:STANDARD
TZOFFSETFROM:-0700
TZOFFSETTO:-0800
TZNAME:PST
DTSTART:20271107T090000
END:STANDARD
BEGIN:DAYLIGHT
TZOFFSETFROM:-0800
TZOFFSETTO:-0700
TZNAME:PDT
DTSTART:20280312T100000
END:DAYLIGHT
BEGIN:STANDARD
TZOFFSETFROM:-0700
TZOFFSETTO:-0800
TZNAME:PST
DTSTART:20281105T090000
END:STANDARD
END:VTIMEZONE
BEGIN:VEVENT
DTSTART;TZID=America/Los_Angeles:20260515T120000
DTEND;TZID=America/Los_Angeles:20260515T133000
DTSTAMP:20260421T031217
CREATED:20250501T142505Z
LAST-MODIFIED:20250501T142505Z
UID:41194-1778846400-1778851800@highdesertcatholic.studiobenna.com
SUMMARY:SERRA Club mass and meeting
DESCRIPTION: miJunipero Serra Club of Northern Nevada will meet May 16\, 2025 at Our Lady of the Snows Parish Center for mass\, lunch and meeting at Noon
URL:https://highdesertcatholic.studiobenna.com/event/serra-club-mass-and-meeting-2026-05-15/
END:VEVENT
BEGIN:VEVENT
DTSTART;TZID=America/Los_Angeles:20260619T120000
DTEND;TZID=America/Los_Angeles:20260619T133000
DTSTAMP:20260421T031217
CREATED:20250501T142505Z
LAST-MODIFIED:20250501T142505Z
UID:41195-1781870400-1781875800@highdesertcatholic.studiobenna.com
SUMMARY:SERRA Club mass and meeting
DESCRIPTION: miJunipero Serra Club of Northern Nevada will meet May 16\, 2025 at Our Lady of the Snows Parish Center for mass\, lunch and meeting at Noon
URL:https://highdesertcatholic.studiobenna.com/event/serra-club-mass-and-meeting-2026-06-19/
END:VEVENT
BEGIN:VEVENT
DTSTART;TZID=America/Los_Angeles:20260717T120000
DTEND;TZID=America/Los_Angeles:20260717T133000
DTSTAMP:20260421T031217
CREATED:20250501T142506Z
LAST-MODIFIED:20250501T142506Z
UID:41196-1784289600-1784295000@highdesertcatholic.studiobenna.com
SUMMARY:SERRA Club mass and meeting
DESCRIPTION: miJunipero Serra Club of Northern Nevada will meet May 16\, 2025 at Our Lady of the Snows Parish Center for mass\, lunch and meeting at Noon
URL:https://highdesertcatholic.studiobenna.com/event/serra-club-mass-and-meeting-2026-07-17/
END:VEVENT
BEGIN:VEVENT
DTSTART;TZID=America/Los_Angeles:20260821T120000
DTEND;TZID=America/Los_Angeles:20260821T133000
DTSTAMP:20260421T031217
CREATED:20250501T142506Z
LAST-MODIFIED:20250501T142506Z
UID:41197-1787313600-1787319000@highdesertcatholic.studiobenna.com
SUMMARY:SERRA Club mass and meeting
DESCRIPTION: miJunipero Serra Club of Northern Nevada will meet May 16\, 2025 at Our Lady of the Snows Parish Center for mass\, lunch and meeting at Noon
URL:https://highdesertcatholic.studiobenna.com/event/serra-club-mass-and-meeting-2026-08-21/
END:VEVENT
BEGIN:VEVENT
DTSTART;TZID=America/Los_Angeles:20260918T120000
DTEND;TZID=America/Los_Angeles:20260918T133000
DTSTAMP:20260421T031217
CREATED:20250501T142506Z
LAST-MODIFIED:20250501T142506Z
UID:41198-1789732800-1789738200@highdesertcatholic.studiobenna.com
SUMMARY:SERRA Club mass and meeting
DESCRIPTION: miJunipero Serra Club of Northern Nevada will meet May 16\, 2025 at Our Lady of the Snows Parish Center for mass\, lunch and meeting at Noon
URL:https://highdesertcatholic.studiobenna.com/event/serra-club-mass-and-meeting-2026-09-18/
END:VEVENT
BEGIN:VEVENT
DTSTART;TZID=America/Los_Angeles:20261016T120000
DTEND;TZID=America/Los_Angeles:20261016T133000
DTSTAMP:20260421T031217
CREATED:20250501T142507Z
LAST-MODIFIED:20250501T142507Z
UID:41199-1792152000-1792157400@highdesertcatholic.studiobenna.com
SUMMARY:SERRA Club mass and meeting
DESCRIPTION: miJunipero Serra Club of Northern Nevada will meet May 16\, 2025 at Our Lady of the Snows Parish Center for mass\, lunch and meeting at Noon
URL:https://highdesertcatholic.studiobenna.com/event/serra-club-mass-and-meeting-2026-10-16/
END:VEVENT
BEGIN:VEVENT
DTSTART;TZID=America/Los_Angeles:20261120T120000
DTEND;TZID=America/Los_Angeles:20261120T133000
DTSTAMP:20260421T031217
CREATED:20250501T142507Z
LAST-MODIFIED:20250501T142507Z
UID:41200-1795176000-1795181400@highdesertcatholic.studiobenna.com
SUMMARY:SERRA Club mass and meeting
DESCRIPTION: miJunipero Serra Club of Northern Nevada will meet May 16\, 2025 at Our Lady of the Snows Parish Center for mass\, lunch and meeting at Noon
URL:https://highdesertcatholic.studiobenna.com/event/serra-club-mass-and-meeting-2026-11-20/
END:VEVENT
BEGIN:VEVENT
DTSTART;TZID=America/Los_Angeles:20261218T120000
DTEND;TZID=America/Los_Angeles:20261218T133000
DTSTAMP:20260421T031217
CREATED:20250501T142507Z
LAST-MODIFIED:20250501T142507Z
UID:41201-1797595200-1797600600@highdesertcatholic.studiobenna.com
SUMMARY:SERRA Club mass and meeting
DESCRIPTION: miJunipero Serra Club of Northern Nevada will meet May 16\, 2025 at Our Lady of the Snows Parish Center for mass\, lunch and meeting at Noon
URL:https://highdesertcatholic.studiobenna.com/event/serra-club-mass-and-meeting-2026-12-18/
END:VEVENT
BEGIN:VEVENT
DTSTART;TZID=America/Los_Angeles:20270115T120000
DTEND;TZID=America/Los_Angeles:20270115T133000
DTSTAMP:20260421T031217
CREATED:20250501T142508Z
LAST-MODIFIED:20250501T142508Z
UID:41202-1800014400-1800019800@highdesertcatholic.studiobenna.com
SUMMARY:SERRA Club mass and meeting
DESCRIPTION: miJunipero Serra Club of Northern Nevada will meet May 16\, 2025 at Our Lady of the Snows Parish Center for mass\, lunch and meeting at Noon
URL:https://highdesertcatholic.studiobenna.com/event/serra-club-mass-and-meeting-2027-01-15/
END:VEVENT
BEGIN:VEVENT
DTSTART;TZID=America/Los_Angeles:20270219T120000
DTEND;TZID=America/Los_Angeles:20270219T133000
DTSTAMP:20260421T031217
CREATED:20250501T142510Z
LAST-MODIFIED:20250501T142510Z
UID:41205-1803038400-1803043800@highdesertcatholic.studiobenna.com
SUMMARY:SERRA Club mass and meeting
DESCRIPTION: miJunipero Serra Club of Northern Nevada will meet May 16\, 2025 at Our Lady of the Snows Parish Center for mass\, lunch and meeting at Noon
URL:https://highdesertcatholic.studiobenna.com/event/serra-club-mass-and-meeting-2027-02-19/
END:VEVENT
BEGIN:VEVENT
DTSTART;TZID=America/Los_Angeles:20270319T120000
DTEND;TZID=America/Los_Angeles:20270319T133000
DTSTAMP:20260421T031217
CREATED:20250501T142510Z
LAST-MODIFIED:20250501T142510Z
UID:41207-1805457600-1805463000@highdesertcatholic.studiobenna.com
SUMMARY:SERRA Club mass and meeting
DESCRIPTION: miJunipero Serra Club of Northern Nevada will meet May 16\, 2025 at Our Lady of the Snows Parish Center for mass\, lunch and meeting at Noon
URL:https://highdesertcatholic.studiobenna.com/event/serra-club-mass-and-meeting-2027-03-19/
END:VEVENT
BEGIN:VEVENT
DTSTART;TZID=America/Los_Angeles:20270416T120000
DTEND;TZID=America/Los_Angeles:20270416T133000
DTSTAMP:20260421T031217
CREATED:20250501T142511Z
LAST-MODIFIED:20250501T142511Z
UID:41208-1807876800-1807882200@highdesertcatholic.studiobenna.com
SUMMARY:SERRA Club mass and meeting
DESCRIPTION: miJunipero Serra Club of Northern Nevada will meet May 16\, 2025 at Our Lady of the Snows Parish Center for mass\, lunch and meeting at Noon
URL:https://highdesertcatholic.studiobenna.com/event/serra-club-mass-and-meeting-2027-04-16/
END:VEVENT
BEGIN:VEVENT
DTSTART;TZID=America/Los_Angeles:20270521T120000
DTEND;TZID=America/Los_Angeles:20270521T133000
DTSTAMP:20260421T031217
CREATED:20250501T142446Z
LAST-MODIFIED:20250501T142446Z
UID:41761-1810900800-1810906200@highdesertcatholic.studiobenna.com
SUMMARY:SERRA Club mass and meeting
DESCRIPTION: miJunipero Serra Club of Northern Nevada will meet May 16\, 2025 at Our Lady of the Snows Parish Center for mass\, lunch and meeting at Noon
URL:https://highdesertcatholic.studiobenna.com/event/serra-club-mass-and-meeting-2027-05-21/
END:VEVENT
BEGIN:VEVENT
DTSTART;TZID=America/Los_Angeles:20270618T120000
DTEND;TZID=America/Los_Angeles:20270618T133000
DTSTAMP:20260421T031217
CREATED:20250501T142446Z
LAST-MODIFIED:20250501T142446Z
UID:42043-1813320000-1813325400@highdesertcatholic.studiobenna.com
SUMMARY:SERRA Club mass and meeting
DESCRIPTION: miJunipero Serra Club of Northern Nevada will meet May 16\, 2025 at Our Lady of the Snows Parish Center for mass\, lunch and meeting at Noon
URL:https://highdesertcatholic.studiobenna.com/event/serra-club-mass-and-meeting-2027-06-18/
END:VEVENT
BEGIN:VEVENT
DTSTART;TZID=America/Los_Angeles:20270716T120000
DTEND;TZID=America/Los_Angeles:20270716T133000
DTSTAMP:20260421T031217
CREATED:20250501T142446Z
LAST-MODIFIED:20250501T142446Z
UID:42059-1815739200-1815744600@highdesertcatholic.studiobenna.com
SUMMARY:SERRA Club mass and meeting
DESCRIPTION: miJunipero Serra Club of Northern Nevada will meet May 16\, 2025 at Our Lady of the Snows Parish Center for mass\, lunch and meeting at Noon
URL:https://highdesertcatholic.studiobenna.com/event/serra-club-mass-and-meeting-2027-07-16/
END:VEVENT
BEGIN:VEVENT
DTSTART;TZID=America/Los_Angeles:20270820T120000
DTEND;TZID=America/Los_Angeles:20270820T133000
DTSTAMP:20260421T031217
CREATED:20250501T142446Z
LAST-MODIFIED:20250501T142446Z
UID:42072-1818763200-1818768600@highdesertcatholic.studiobenna.com
SUMMARY:SERRA Club mass and meeting
DESCRIPTION: miJunipero Serra Club of Northern Nevada will meet May 16\, 2025 at Our Lady of the Snows Parish Center for mass\, lunch and meeting at Noon
URL:https://highdesertcatholic.studiobenna.com/event/serra-club-mass-and-meeting-2027-08-20/
END:VEVENT
BEGIN:VEVENT
DTSTART;TZID=America/Los_Angeles:20270917T120000
DTEND;TZID=America/Los_Angeles:20270917T133000
DTSTAMP:20260421T031217
CREATED:20250501T142446Z
LAST-MODIFIED:20250501T142446Z
UID:42081-1821182400-1821187800@highdesertcatholic.studiobenna.com
SUMMARY:SERRA Club mass and meeting
DESCRIPTION: miJunipero Serra Club of Northern Nevada will meet May 16\, 2025 at Our Lady of the Snows Parish Center for mass\, lunch and meeting at Noon
URL:https://highdesertcatholic.studiobenna.com/event/serra-club-mass-and-meeting-2027-09-17/
END:VEVENT
BEGIN:VEVENT
DTSTART;TZID=America/Los_Angeles:20271015T120000
DTEND;TZID=America/Los_Angeles:20271015T133000
DTSTAMP:20260421T031217
CREATED:20250501T142446Z
LAST-MODIFIED:20250501T142446Z
UID:42092-1823601600-1823607000@highdesertcatholic.studiobenna.com
SUMMARY:SERRA Club mass and meeting
DESCRIPTION: miJunipero Serra Club of Northern Nevada will meet May 16\, 2025 at Our Lady of the Snows Parish Center for mass\, lunch and meeting at Noon
URL:https://highdesertcatholic.studiobenna.com/event/serra-club-mass-and-meeting-2027-10-15/
END:VEVENT
BEGIN:VEVENT
DTSTART;TZID=America/Los_Angeles:20271119T120000
DTEND;TZID=America/Los_Angeles:20271119T133000
DTSTAMP:20260421T031217
CREATED:20250501T142446Z
LAST-MODIFIED:20250501T142446Z
UID:42102-1826625600-1826631000@highdesertcatholic.studiobenna.com
SUMMARY:SERRA Club mass and meeting
DESCRIPTION: miJunipero Serra Club of Northern Nevada will meet May 16\, 2025 at Our Lady of the Snows Parish Center for mass\, lunch and meeting at Noon
URL:https://highdesertcatholic.studiobenna.com/event/serra-club-mass-and-meeting-2027-11-19/
END:VEVENT
BEGIN:VEVENT
DTSTART;TZID=America/Los_Angeles:20271217T120000
DTEND;TZID=America/Los_Angeles:20271217T133000
DTSTAMP:20260421T031217
CREATED:20250501T142446Z
LAST-MODIFIED:20250501T142446Z
UID:42107-1829044800-1829050200@highdesertcatholic.studiobenna.com
SUMMARY:SERRA Club mass and meeting
DESCRIPTION: miJunipero Serra Club of Northern Nevada will meet May 16\, 2025 at Our Lady of the Snows Parish Center for mass\, lunch and meeting at Noon
URL:https://highdesertcatholic.studiobenna.com/event/serra-club-mass-and-meeting-2027-12-17/
END:VEVENT
END:VCALENDAR